BEGIN:VCALENDAR
VERSION:2.0
PRODID:-//eventon.com NONSGML v1.0//EN
BEGIN:VEVENT
UID:69e8e307c6cbf
DTSTAMP:20260422T160231
DTSTART:20230521T230000Z
DTEND:20230520T230000Z
LOCATION:
SUMMARY:World Bee Day
DESCRIPTION: World Bee Day https://dovecotenursery.org/events/world-bee-day/
END:VEVENT
END:VCALENDAR