BEGIN:VCALENDAR
VERSION:2.0
PRODID:-//eventon.com NONSGML v1.0//EN
BEGIN:VEVENT
UID:69e5767d063ae
DTSTAMP:20260420T014237
DTSTART:20230529T230000Z
DTEND:20230528T230000Z
LOCATION:
SUMMARY:Dentist Visit & Coffee Morning
DESCRIPTION: Dentist Visit & Coffee Morning https://dovecotenursery.org/events/dentist-visit-coffee-morning/
END:VEVENT
END:VCALENDAR