BEGIN:VCALENDAR
VERSION:2.0
PRODID:-//eventon.com NONSGML v1.0//EN
BEGIN:VEVENT
UID:69e5ac53f02be
DTSTAMP:20260420T053219
DTSTART:20240102T124800Z
DTEND:20240322T124800Z
LOCATION:
SUMMARY:SPRING TERM 2024 – Term 2
DESCRIPTION: Friday\,  22nd March 2024 Term Ends (Nursery close at 12:00 noon)
END:VEVENT
END:VCALENDAR